BEGIN:VCALENDAR
VERSION:2.0
PRODID:-//188.34.128.136//NONSGML kigkonsult.se iCalcreator 2.41.56//
CALSCALE:GREGORIAN
UID:39626431-3062-4361-b034-353861363630
X-WR-TIMEZONE:Europe/Berlin
X-WR-CALNAME:www.datefix.de
X-WR-CALDESC:www.datefix.de Veranstaltungskalender
BEGIN:VTIMEZONE
TZID:Europe/Berlin
TZUNTIL:20271031T010000
BEGIN:STANDARD
TZNAME:CET
DTSTART:20251026T030000
TZOFFSETFROM:+0200
TZOFFSETTO:+0100
RDATE:20261025T030000
END:STANDARD
BEGIN:DAYLIGHT
TZNAME:CEST
DTSTART:20260329T020000
TZOFFSETFROM:+0100
TZOFFSETTO:+0200
RDATE:20270328T020000
END:DAYLIGHT
END:VTIMEZONE
BEGIN:VEVENT
UID:34316562-6139-4662-b564-373963313934
DTSTAMP:20260425T140031Z
DESCRIPTION:
DTSTART;TZID=Europe/Berlin:20260425T130000
DTEND;TZID=Europe/Berlin:20260425T160000
LOCATION:ALETTER HAUS\, Hochstraße 9\, 57319 Bad Berleburg\,
SUMMARY:KUNST und MEHR...
END:VEVENT
END:VCALENDAR
