BEGIN:VCALENDAR
VERSION:2.0
PRODID:-//188.34.128.136//NONSGML kigkonsult.se iCalcreator 2.41.56//
CALSCALE:GREGORIAN
UID:62393139-3366-4137-b733-363162613332
X-WR-TIMEZONE:Europe/Berlin
X-WR-CALNAME:www.datefix.de
X-WR-CALDESC:www.datefix.de Veranstaltungskalender
BEGIN:VTIMEZONE
TZID:Europe/Berlin
TZUNTIL:20280326T010000
BEGIN:STANDARD
TZNAME:CET
DTSTART:20251026T030000
TZOFFSETFROM:+0200
TZOFFSETTO:+0100
RDATE:20261025T030000
RDATE:20271031T030000
END:STANDARD
BEGIN:DAYLIGHT
TZNAME:CEST
DTSTART:20260329T020000
TZOFFSETFROM:+0100
TZOFFSETTO:+0200
RDATE:20270328T020000
END:DAYLIGHT
END:VTIMEZONE
BEGIN:VEVENT
UID:30623262-6232-4136-b934-306530383862
DTSTAMP:20260421T095450Z
DESCRIPTION:<p><strong>53. Internationale Musikfestwoche Bad Berleburg</str
 ong></p>\n<p>&bdquo\;Gro&szlig\;er Wolf &amp\; kleiner Wolf &ndash\; Vom G
 l&uuml\;ck\, zu zweit zu sein&ldquo\;</p>\n<p>Julia D&ouml\;rr\, Leiterin 
 des Projekts &bdquo\;Musik kommt um die Ecke&ldquo\; an der Philharmonie E
 ssen<br>Linda Eiermanns\, Leiterin der Musikschule im Bethanien Kinderund 
 Jugenddorf Schwalmtal</p>\n<p>Das Konzert erz&auml\;hlt die Geschichte des
  Bilderbuchs &bdquo\;Gro&szlig\;er Wolf &amp\; kleiner Wolf &ndash\; Vom G
 l&uuml\;ck\, zu zweit zu sein&ldquo\; von Nadine Brun-Cosme und Olivier Ta
 llec. Musikalisch wird die Geschichte von Kinderliedern\, improvisierten K
 l&auml\;ngen und verschiedenen Instrumenten begleitet. Das Publikum wird d
 urch H&ouml\;r-\, Musizier- und Bewegungsimpulse aktiv mit einbezogen. So 
 entsteht ein Konzert &uuml\;ber Freundschaft\, Vertrauen und das Gl&uuml\;
 ck\, zu zweit zu sein.</p>\n<p>Begrenzte Auswahl von Sitzpl&auml\;tzen.</p
 >
DTSTART;TZID=Europe/Berlin:20260711T110000
DTEND;TZID=Europe/Berlin:20260711T120000
LOCATION:Das Neue CAPITOL\, Im Herrengarten 8\, 57319 Bad Berleburg\,
SUMMARY:Kinderkonzert
END:VEVENT
END:VCALENDAR
