BEGIN:VCALENDAR
VERSION:2.0
PRODID:-//188.34.128.136//NONSGML kigkonsult.se iCalcreator 2.41.56//
CALSCALE:GREGORIAN
UID:62343764-3365-4930-b666-386630326235
X-WR-TIMEZONE:Europe/Berlin
X-WR-CALNAME:www.datefix.de
X-WR-CALDESC:www.datefix.de Veranstaltungskalender
BEGIN:VTIMEZONE
TZID:Europe/Berlin
TZUNTIL:20271031T010000
BEGIN:STANDARD
TZNAME:CET
DTSTART:20251026T030000
TZOFFSETFROM:+0200
TZOFFSETTO:+0100
RDATE:20261025T030000
END:STANDARD
BEGIN:DAYLIGHT
TZNAME:CEST
DTSTART:20260329T020000
TZOFFSETFROM:+0100
TZOFFSETTO:+0200
RDATE:20270328T020000
END:DAYLIGHT
END:VTIMEZONE
BEGIN:VEVENT
UID:35353332-6364-4032-a364-626337366561
DTSTAMP:20260425T111102Z
DESCRIPTION:<p class='MsoNormal'><strong><span style='font-size: 12.0pt\; m
 so-bidi-font-size: 11.0pt\;'>Angeh&ouml\;rigen Caf&eacute\; in der VITREA 
 Rehaklinik Bad Berleburg </span></strong></p>\n<p class='MsoNormal'><span 
 style='font-size: 12.0pt\; mso-bidi-font-size: 11.0pt\;'>Dies ist ein rege
 lm&auml\;&szlig\;iger Treffpunkt f&uuml\;r pflegende Angeh&ouml\;rige\, in
  dem fortlaufende Informationen vermittelt und Fragen beantworten werden. 
 Dar&uuml\;ber hinaus haben pflegende Angeh&ouml\;rige die Gelegenheit\, in
  einer Ihnen vertrauten Gruppe &uuml\;ber ihre Belastungen zu sprechen\, s
 ich auszutauschen und voneinander Beratung und Zuspruch zu erfahren.</span
 ></p>\n<p class='MsoNormal'><span style='font-size: 12.0pt\; mso-bidi-font
 -size: 11.0pt\;'>Weitere Informationen und Anmeldung unter 02751 / 88 100 
 00 und </span><a href='https://www.vitrea-gesundheit.de/reha/bad-berleburg
 /'>https://www.vitrea-gesundheit.de/reha/bad-berleburg/</a></p>\n<p class=
 'MsoNormal'><span style='font-size: 12.0pt\; mso-bidi-font-size: 11.0pt\;'
 >Das genannte Angebot ist kostenfrei. Wir bitten um zeitnahe Anmeldung\, d
 a die Teilnehmerzahl begrenzt ist. </span></p>
DTSTART;TZID=Europe/Berlin:20260428T140000
DTEND;TZID=Europe/Berlin:20260428T170000
LOCATION:VITREA Rehaklinik Bad Berleburg\, Am Schloßpark 11\, 57319 Bad Ber
 leburg\,
SUMMARY:Angehörigen Café in der VITREA Rehaklinik
END:VEVENT
END:VCALENDAR
