BEGIN:VCALENDAR
VERSION:2.0
PRODID:-//188.34.128.136//NONSGML kigkonsult.se iCalcreator 2.41.56//
CALSCALE:GREGORIAN
UID:66663063-3365-4431-b138-363834306464
X-WR-TIMEZONE:Europe/Berlin
X-WR-CALNAME:www.datefix.de
X-WR-CALDESC:www.datefix.de Veranstaltungskalender
BEGIN:VTIMEZONE
TZID:Europe/Berlin
TZUNTIL:20271031T010000
BEGIN:STANDARD
TZNAME:CET
DTSTART:20251026T030000
TZOFFSETFROM:+0200
TZOFFSETTO:+0100
RDATE:20261025T030000
END:STANDARD
BEGIN:DAYLIGHT
TZNAME:CEST
DTSTART:20260329T020000
TZOFFSETFROM:+0100
TZOFFSETTO:+0200
RDATE:20270328T020000
END:DAYLIGHT
END:VTIMEZONE
BEGIN:VEVENT
UID:65623166-3737-4438-b231-666436363531
DTSTAMP:20260421T050610Z
DESCRIPTION:<p>Damit Obstb&auml\;ume sich gut entwickeln muss man sie regel
 m&auml\;&szlig\;ig schneiden. Robin L&uuml\;ckert\, erfahrener Baumpfleger
 \, zeigt auf der Obstwiese des Obst- und Gartenbauvereins Raumland wie der
  Schnitt bei Obstb&auml\;umen gelingt. Die Teilnehmer*innen wenden das gel
 ernte Wissen direkt vor Ort an.&nbsp\;</p>\n<p>Der Workshop eignet sich f&
 uuml\;r Hobbyg&auml\;rtner mit Grundkenntnissen im Baumschnitt\, die ihr W
 issen vertiefen wollen\, sowie Anf&auml\;nger.&nbsp\;</p>\n<p>Eine Anmeldu
 ng ist erforderlich! <br>Kontakt und Informationen:&nbsp\;</p>\n<p>Anmeldu
 ng per Mail an:<br><a href='mailto:l.burwitz@bad-berleburg.de'>l.burwitz@b
 ad-berleburg.de</a> oder per Telefon: 02751 923-248 &nbsp\; &nbsp\; &nbsp\
 ;</p>
DTSTART;TZID=Europe/Berlin:20260424T140000
DTEND;TZID=Europe/Berlin:20260424T180000
LOCATION:Lesekorb am Wanderparkplatz 'Reisegarten' in Raumland\, Raumländer
 straße\, 57319 Raumland\,
SUMMARY:Workshop Obstbaumschnitt
END:VEVENT
END:VCALENDAR
